BEGIN:VCALENDAR
VERSION:2.0
PRODID:-//Carl Eldhs Ateljémuseum - ECPv6.15.18//NONSGML v1.0//EN
CALSCALE:GREGORIAN
METHOD:PUBLISH
X-ORIGINAL-URL:https://eldhsatelje.se
X-WR-CALDESC:Händelser för Carl Eldhs Ateljémuseum
REFRESH-INTERVAL;VALUE=DURATION:PT1H
X-Robots-Tag:noindex
X-PUBLISHED-TTL:PT1H
BEGIN:VTIMEZONE
TZID:Europe/Stockholm
BEGIN:DAYLIGHT
TZOFFSETFROM:+0100
TZOFFSETTO:+0200
TZNAME:CEST
DTSTART:20240331T010000
END:DAYLIGHT
BEGIN:STANDARD
TZOFFSETFROM:+0200
TZOFFSETTO:+0100
TZNAME:CET
DTSTART:20241027T010000
END:STANDARD
BEGIN:DAYLIGHT
TZOFFSETFROM:+0100
TZOFFSETTO:+0200
TZNAME:CEST
DTSTART:20250330T010000
END:DAYLIGHT
BEGIN:STANDARD
TZOFFSETFROM:+0200
TZOFFSETTO:+0100
TZNAME:CET
DTSTART:20251026T010000
END:STANDARD
BEGIN:DAYLIGHT
TZOFFSETFROM:+0100
TZOFFSETTO:+0200
TZNAME:CEST
DTSTART:20260329T010000
END:DAYLIGHT
BEGIN:STANDARD
TZOFFSETFROM:+0200
TZOFFSETTO:+0100
TZNAME:CET
DTSTART:20261025T010000
END:STANDARD
END:VTIMEZONE
BEGIN:VEVENT
DTSTART;VALUE=DATE:20250804
DTEND;VALUE=DATE:20251007
DTSTAMP:20260421T223723
CREATED:20250804T101704Z
LAST-MODIFIED:20251013T133326Z
UID:10000121-1754265600-1759795199@eldhsatelje.se
SUMMARY:Konst på stan - årets sista allmänna vandring 5 oktober
DESCRIPTION:Följ med museets konstpedagog på vandring bland konsten i stadens olika rum och parkmiljöer. Biljetter köps via Billetto. Vandringen är ca 1\,5 timma och genomförs oavsett väder. \nSöndag 5 oktober\nBlicken på offentlig konst- skulpturvandring på Norrmalm
URL:https://eldhsatelje.se/event/konst-pa-stan-allmanna-vandringar-i-host/
CATEGORIES:Vandring
ATTACH;FMTTYPE=image/jpeg:https://eldhsatelje.se/wp-content/uploads/2023/06/Statyer-i-Stadshustradgarden-Foto-ur-Carl-Eldhs-Ateljemuseums-arkiv-Fotograf-okand.jpg
END:VEVENT
END:VCALENDAR